BEGIN:VCALENDAR
VERSION:2.0
PRODID:icalendar-ruby
CALSCALE:GREGORIAN
METHOD:PUBLISH
BEGIN:VEVENT
DTSTAMP:20260424T092031Z
UID:9-328322@trinityumcphoenix.org
DTSTART:20260906T200000Z
DTEND:20260906T210000Z
CLASS:PUBLIC
CREATED:20260423T202505
DESCRIPTION:Please note that on the 1st Sunday of every month the English a
 nd Tongan services are combined at the 9:30 worship time in English.
LAST-MODIFIED:20260423T202505
LOCATION:Sanctuary
SUMMARY:Tongan Worship
URL;VALUE=URI:https://www.trinityumcphoenix.org/events/tongan-worship/2026-
 09-06
ATTACH;FILENAME=Tongan-Ladies.jpeg;FMTTYPE=image/jpeg:https://dq5pwpg1q8ru0
 .cloudfront.net/2025/12/05/23/17/47/797eef03-ad31-47b8-9f0e-d670fd06138c/T
 ongan-Ladies.jpeg
END:VEVENT
END:VCALENDAR
