BEGIN:VCALENDAR
VERSION:2.0
PRODID:icalendar-ruby
CALSCALE:GREGORIAN
METHOD:PUBLISH
BEGIN:VEVENT
DTSTAMP:20260422T230809Z
UID:6-326649@trinityumcphoenix.org
DTSTART:20260823T163000Z
DTEND:20260823T173000Z
CLASS:PUBLIC
CREATED:20260422T143727
DESCRIPTION:Please note that on the 1st Sunday of every month the English a
 nd Tongan services are combined at the 9:30 worship time in English.
LAST-MODIFIED:20260422T143727
LOCATION:Sanctuary
SUMMARY:Worship with Communion
URL;VALUE=URI:https://www.trinityumcphoenix.org/events/worship-with-communi
 on/2026-08-23
ATTACH;FILENAME=Sanctuary-morning.jpeg;FMTTYPE=image/jpeg:https://dq5pwpg1q
 8ru0.cloudfront.net/2025/12/05/23/22/06/a655d3b8-4b01-49ff-a647-fa0e33b906
 b9/Sanctuary-morning.jpeg
END:VEVENT
END:VCALENDAR
